BEGIN:VCALENDAR
VERSION:2.0
PRODID:icalendar-ruby
CALSCALE:GREGORIAN
BEGIN:VEVENT
DTSTAMP:20210121T003751Z
UID:59b3150d-6541-4fba-ab12-0b245dd1f0f1
DTSTART;VALUE=DATE:20201104
DESCRIPTION:Property ID# 492496\, Locatoin: In Rooms at Tremains Tauranga O
 ffice (Corner of 8th Avenue and Cameron Road) \, Time: 1:00PM
SUMMARY:Auction for 
END:VEVENT
END:VCALENDAR
