BEGIN:VCALENDAR
VERSION:2.0
PRODID:icalendar-ruby
CALSCALE:GREGORIAN
BEGIN:VEVENT
DTSTAMP:20210121T003749Z
UID:be81930b-16a6-4c44-80f3-b6a5c93610a5
DTSTART;VALUE=DATE:20201118
DESCRIPTION:Property ID# 493215\, Locatoin: In Rooms at Tremains Tauranga O
 ffice (Corner of 8th Avenue and Cameron Road) \, Time: 1:00PM
SUMMARY:Auction for 
END:VEVENT
END:VCALENDAR
