BEGIN:VCALENDAR
VERSION:2.0
PRODID:icalendar-ruby
CALSCALE:GREGORIAN
BEGIN:VEVENT
DTSTAMP:20210121T003747Z
UID:f2a13920-c738-43c1-bee5-56a3789af878
DTSTART;VALUE=DATE:20201125
DESCRIPTION:Property ID# 493216\, Locatoin: On Site \, Time: 3:30PM
SUMMARY:Auction for 
END:VEVENT
END:VCALENDAR
