BEGIN:VCALENDAR
VERSION:2.0
PRODID:icalendar-ruby
CALSCALE:GREGORIAN
BEGIN:VEVENT
DTSTAMP:20260420T045531Z
UID:cd65d355-e3fa-4802-9056-aca8e4ffbb33
DTSTART;VALUE=DATE:20200603
DESCRIPTION:Property ID# 480093\, Locatoin: 247 Cameron Road\, Tauranga\, T
 ime: 1:00PM
SUMMARY:Auction for 
END:VEVENT
END:VCALENDAR
