BEGIN:VCALENDAR
VERSION:2.0
PRODID:icalendar-ruby
CALSCALE:GREGORIAN
BEGIN:VEVENT
DTSTAMP:20260422T092608Z
UID:450bebe5-48c6-435a-a71c-96f14e6ed3ae
DTSTART;VALUE=DATE:20201028
DESCRIPTION:Property ID# 491049\, Locatoin: Auction Rooms\, 247 Cameron Roa
 d\, Tauranga. Unless sold prior\, Time: 1:00PM
SUMMARY:Auction for 
END:VEVENT
END:VCALENDAR
