BEGIN:VCALENDAR
VERSION:2.0
PRODID:icalendar-ruby
CALSCALE:GREGORIAN
BEGIN:VEVENT
DTSTAMP:20260422T131109Z
UID:9f3cdc84-cdce-4e1e-a5dd-f88fba66cc2e
DTSTART;VALUE=DATE:20210224
DESCRIPTION:Property ID# 497524\, Locatoin: 247 Cameron Road\, Tauranga (Un
 less Sold Prior)\, Time: 1:00PM
SUMMARY:Auction for 
END:VEVENT
END:VCALENDAR
