BEGIN:VCALENDAR
VERSION:2.0
PRODID:icalendar-ruby
CALSCALE:GREGORIAN
BEGIN:VEVENT
DTSTAMP:20260422T092500Z
UID:8767fab9-2e47-4b40-8684-0917fef83347
DTSTART;VALUE=DATE:20210303
DESCRIPTION:Property ID# 501123\, Locatoin: 247 Cameron Road\, Tauranga\, T
 ime: 1:00PM
SUMMARY:Auction for 
END:VEVENT
END:VCALENDAR
