BEGIN:VCALENDAR
VERSION:2.0
PRODID:icalendar-ruby
CALSCALE:GREGORIAN
BEGIN:VEVENT
DTSTAMP:20260420T085103Z
UID:ba264189-0f04-4550-b849-47f12e8ed86d
DTSTART;VALUE=DATE:20210825
DESCRIPTION:Property ID# 514009\, Locatoin: 247 Cameron Road Tauranga\, Bay
 leys Auction Rooms\, Time: 1:00PM
SUMMARY:Auction for 
END:VEVENT
END:VCALENDAR
