BEGIN:VCALENDAR
VERSION:2.0
PRODID:icalendar-ruby
CALSCALE:GREGORIAN
BEGIN:VEVENT
DTSTAMP:20260424T084101Z
UID:4c24b993-a75d-412d-ad0c-f03bee76f883
DTSTART;VALUE=DATE:20210929
DESCRIPTION:Property ID# 514960\, Locatoin: 247 Cameron Road Tauranga\, Bay
 leys Auction Rooms\, Time: 1:00PM
SUMMARY:Auction for 
END:VEVENT
END:VCALENDAR
