BEGIN:VCALENDAR
VERSION:2.0
PRODID:icalendar-ruby
CALSCALE:GREGORIAN
BEGIN:VEVENT
DTSTAMP:20260420T144218Z
UID:2387b4ae-6f54-43ba-9f2b-657714de6b58
DTSTART;VALUE=DATE:20210915
DESCRIPTION:Property ID# 515477\, Locatoin: EVES Auction Room: 247 Cameron 
 Road\, Tauranga (unless sold prior)	\, Time: 4:00PM
SUMMARY:Auction for 
END:VEVENT
END:VCALENDAR
