BEGIN:VCALENDAR
VERSION:2.0
PRODID:icalendar-ruby
CALSCALE:GREGORIAN
BEGIN:VEVENT
DTSTAMP:20260423T151012Z
UID:701bc8c9-17a6-46f1-ba6a-367f6bd04fc8
DTSTART;VALUE=DATE:20210922
DESCRIPTION:Property ID# 516749\, Locatoin: Ray White Auction Rooms\, 1/9 D
 omain Road\, Papamoa (unless sold prior)\, Time: 1:00PM
SUMMARY:Auction for 
END:VEVENT
END:VCALENDAR
