BEGIN:VCALENDAR
VERSION:2.0
PRODID:icalendar-ruby
CALSCALE:GREGORIAN
BEGIN:VEVENT
DTSTAMP:20260423T153555Z
UID:de360e49-905a-4716-835c-f17e4a48177c
DTSTART;VALUE=DATE:20231005
DESCRIPTION:Property ID# 562744\, Locatoin: Harcourts Auction Rooms\, 1 Thi
 rd Avenue\, Tauranga\, Unless Sold Prior\, Time: 11:00AM
SUMMARY:Auction for 
END:VEVENT
END:VCALENDAR
