BEGIN:VCALENDAR
VERSION:2.0
PRODID:icalendar-ruby
CALSCALE:GREGORIAN
BEGIN:VEVENT
DTSTAMP:20260423T153655Z
UID:3652c83a-43c4-4aa5-81e1-4941b23e945d
DTSTART;VALUE=DATE:20231026
DESCRIPTION:Property ID# 563783\, Locatoin: Harcourts Auction Rooms\, 1 Thi
 rd Avenue\, Tauranga\, Unless Sold Prior\, Time: 12:00PM
SUMMARY:Auction for 
END:VEVENT
END:VCALENDAR
