BEGIN:VCALENDAR
VERSION:2.0
PRODID:icalendar-ruby
CALSCALE:GREGORIAN
BEGIN:VEVENT
DTSTAMP:20260423T153601Z
UID:8820608d-c384-431c-9cc4-311c1be179f3
DTSTART;VALUE=DATE:20240313
DESCRIPTION:Property ID# 570656\, Locatoin: Harcourts Auction Room\, 1 Thir
 d Avenue\, Tauranga\, Unless Sold Prior\, Time: 11:30AM
SUMMARY:Auction for 
END:VEVENT
END:VCALENDAR
