BEGIN:VCALENDAR
VERSION:2.0
PRODID:icalendar-ruby
CALSCALE:GREGORIAN
BEGIN:VEVENT
DTSTAMP:20260422T092503Z
UID:775d912e-ec72-4cb0-8a8d-9b5042e75bfc
DTSTART;VALUE=DATE:20250220
DESCRIPTION:Property ID# 586880\, Locatoin: ANZ Building\, cnr of Cameron R
 oad and Elizabeth Street\, Tauranga\, Time: 12:00PM
SUMMARY:Auction for 
END:VEVENT
END:VCALENDAR
