BEGIN:VCALENDAR
VERSION:2.0
PRODID:icalendar-ruby
CALSCALE:GREGORIAN
BEGIN:VEVENT
DTSTAMP:20260422T141620Z
UID:80fd5d87-e295-4937-8260-9435ebe9602b
DTSTART;VALUE=DATE:20260225
DESCRIPTION:Property ID# 602671\, Locatoin: Ray White Tauranga Auction Room
 \, 1/525 Cameron Road\, Tauranga\, Time: 1:00PM
SUMMARY:Auction for 
END:VEVENT
END:VCALENDAR
