BEGIN:VCALENDAR
VERSION:2.0
PRODID:icalendar-ruby
CALSCALE:GREGORIAN
BEGIN:VEVENT
DTSTAMP:20260422T142507Z
UID:77103250-e997-4777-aa85-7ea25c9cbd06
DTSTART;VALUE=DATE:20260325
DESCRIPTION:Property ID# 604164\, Locatoin: Ray White Greerton (unless sold
  prior)\, Time: 1:00PM
SUMMARY:Auction for 
END:VEVENT
END:VCALENDAR
