BEGIN:VCALENDAR
VERSION:2.0
PRODID:icalendar-ruby
CALSCALE:GREGORIAN
BEGIN:VEVENT
DTSTAMP:20260424T084302Z
UID:7a6f4b41-4c9d-45a8-9e53-5c41adfe319c
DTSTART;VALUE=DATE:20260514
DESCRIPTION:Property ID# 606277\, Locatoin: East Realty\, 293 Cameron Road\
 , Tauranga (Unless Sold Prior)\, Time: 12:00PM
SUMMARY:Auction for 23 Bertrowe Drive
END:VEVENT
END:VCALENDAR
