BEGIN:VCALENDAR
VERSION:2.0
PRODID:icalendar-ruby
CALSCALE:GREGORIAN
BEGIN:VEVENT
DTSTAMP:20260420T111622Z
UID:552238d5-acf6-4901-adf6-c2f2b37a1c05
DTSTART;VALUE=DATE:20260507
DESCRIPTION:Property ID# 606772\, Locatoin: Auction Rooms\, 247 Cameron Roa
 d\, Tauranga. Unless sold prior\, Time: 1:00PM
SUMMARY:Auction for 7 Te Wati Street
END:VEVENT
END:VCALENDAR
