BEGIN:VCALENDAR
VERSION:2.0
PRODID:icalendar-ruby
CALSCALE:GREGORIAN
BEGIN:VEVENT
DTSTAMP:20260421T142131Z
UID:6942a3c0-9c2d-4a3e-bc41-6e5f729867d4
DTSTART;VALUE=DATE:20260521
DESCRIPTION:Property ID# 607039\, Locatoin: Auction Rooms\, 247 Cameron Roa
 d\, Tauranga. Unless sold prior\, Time: 1:00PM
SUMMARY:Auction for 64B Sixteenth Avenue
END:VEVENT
END:VCALENDAR
