BEGIN:VCALENDAR
VERSION:2.0
PRODID:icalendar-ruby
CALSCALE:GREGORIAN
BEGIN:VEVENT
DTSTAMP:20260420T130214Z
UID:1222358c-abe0-4640-a472-017a0a377895
DTSTART;TZID=Pacific/Auckland:20260419T120000
DTEND;TZID=Pacific/Auckland:20260419T123000
DESCRIPTION:Property ID# 606434
SUMMARY:Openhome for 30 Seabreeze Place
END:VEVENT
END:VCALENDAR
