BEGIN:VCALENDAR
VERSION:2.0
PRODID:icalendar-ruby
CALSCALE:GREGORIAN
BEGIN:VEVENT
DTSTAMP:20260424T100941Z
UID:dedba74f-c739-447c-91f2-140769a20ff2
DTSTART;TZID=Pacific/Auckland:20260425T123000
DTEND;TZID=Pacific/Auckland:20260425T130000
DESCRIPTION:Property ID# 606918
SUMMARY:Openhome for 12 Putaka Place
END:VEVENT
END:VCALENDAR
