BEGIN:VCALENDAR
VERSION:2.0
PRODID:icalendar-ruby
CALSCALE:GREGORIAN
BEGIN:VEVENT
DTSTAMP:20260423T174817Z
UID:fff4bd71-f0c7-4a83-b388-08f8a735fadd
DTSTART;TZID=Pacific/Auckland:20260426T130000
DTEND;TZID=Pacific/Auckland:20260426T133000
DESCRIPTION:Property ID# 603961
SUMMARY:Openhome for 64c Fifth Avenue
END:VEVENT
END:VCALENDAR
