BEGIN:VCALENDAR
VERSION:2.0
PRODID:icalendar-ruby
CALSCALE:GREGORIAN
BEGIN:VEVENT
DTSTAMP:20260423T143515Z
UID:e031c717-3d87-453c-a400-68ff45730cc8
DTSTART;TZID=Pacific/Auckland:20260426T111500
DTEND;TZID=Pacific/Auckland:20260426T120000
DESCRIPTION:Property ID# 607050
SUMMARY:Openhome for 10 Evansbel Place
END:VEVENT
END:VCALENDAR
