BEGIN:VCALENDAR
VERSION:2.0
PRODID:icalendar-ruby
CALSCALE:GREGORIAN
BEGIN:VEVENT
DTSTAMP:20260423T142504Z
UID:a68aa4a9-436c-4cac-b119-2553aa91b4ac
DTSTART;TZID=Pacific/Auckland:20260426T120000
DTEND;TZID=Pacific/Auckland:20260426T123000
DESCRIPTION:Property ID# 607014
SUMMARY:Openhome for 12 Faulkner Street
END:VEVENT
END:VCALENDAR
