BEGIN:VCALENDAR
VERSION:2.0
PRODID:icalendar-ruby
CALSCALE:GREGORIAN
BEGIN:VEVENT
DTSTAMP:20260423T102935Z
UID:4e691908-b2ba-4285-9cd4-375354407ca8
DTSTART;TZID=Pacific/Auckland:20260426T130000
DTEND;TZID=Pacific/Auckland:20260426T133000
DESCRIPTION:Property ID# 601064
SUMMARY:Openhome for 11/22 Cliff Road
END:VEVENT
END:VCALENDAR
